BEGIN:VCALENDAR
VERSION:2.0
PRODID:-//Souvenir Online - ECPv4.9.14//NONSGML v1.0//EN
CALSCALE:GREGORIAN
METHOD:PUBLISH
X-WR-CALNAME:Souvenir Online
X-ORIGINAL-URL:https://www.souvenironline.co.uk
X-WR-CALDESC:Events for Souvenir Online
BEGIN:VTIMEZONE
TZID:Europe/London
BEGIN:DAYLIGHT
TZOFFSETFROM:+0000
TZOFFSETTO:+0100
TZNAME:BST
DTSTART:20210328T010000
END:DAYLIGHT
BEGIN:STANDARD
TZOFFSETFROM:+0100
TZOFFSETTO:+0000
TZNAME:GMT
DTSTART:20211031T010000
END:STANDARD
END:VTIMEZONE
BEGIN:VEVENT
DTSTART;TZID=Europe/London:20211002T210000
DTEND;TZID=Europe/London:20211002T233000
DTSTAMP:20260423T100706
CREATED:20210728T162323Z
LAST-MODIFIED:20210728T162323Z
UID:135-1633208400-1633217400@www.souvenironline.co.uk
SUMMARY:Gig @ The Carnfield Club
DESCRIPTION:
URL:https://www.souvenironline.co.uk/event/gig-the-carnfield-club-3/
LOCATION:The Carnfield Club\, Lees Lane\, South Normanton\, Alfreton\, DE55 2AD\, United Kingdom
CATEGORIES:Gigs
END:VEVENT
END:VCALENDAR