BEGIN:VCALENDAR
VERSION:2.0
PRODID:-//Souvenir Online - ECPv4.9.14//NONSGML v1.0//EN
CALSCALE:GREGORIAN
METHOD:PUBLISH
X-WR-CALNAME:Souvenir Online
X-ORIGINAL-URL:https://www.souvenironline.co.uk
X-WR-CALDESC:Events for Souvenir Online
BEGIN:VTIMEZONE
TZID:Europe/London
BEGIN:DAYLIGHT
TZOFFSETFROM:+0000
TZOFFSETTO:+0100
TZNAME:BST
DTSTART:20210328T010000
END:DAYLIGHT
BEGIN:STANDARD
TZOFFSETFROM:+0100
TZOFFSETTO:+0000
TZNAME:GMT
DTSTART:20211031T010000
END:STANDARD
END:VTIMEZONE
BEGIN:VEVENT
DTSTART;TZID=Europe/London:20211030T210000
DTEND;TZID=Europe/London:20211030T233000
DTSTAMP:20260420T062042
CREATED:20210728T162709Z
LAST-MODIFIED:20210728T162709Z
UID:138-1635627600-1635636600@www.souvenironline.co.uk
SUMMARY:Gig @ Nottingham Oddfellows Club
DESCRIPTION:
URL:https://www.souvenironline.co.uk/event/gig-nottingham-oddfellows-club/
LOCATION:Nottingham Oddfellows Club\, 81 Humberstone Gate\, LE1 1WB\, United Kingdom
CATEGORIES:Gigs
END:VEVENT
END:VCALENDAR