BEGIN:VCALENDAR
VERSION:2.0
PRODID:-//Souvenir Online - ECPv4.9.14//NONSGML v1.0//EN
CALSCALE:GREGORIAN
METHOD:PUBLISH
X-WR-CALNAME:Souvenir Online
X-ORIGINAL-URL:https://www.souvenironline.co.uk
X-WR-CALDESC:Events for Souvenir Online
BEGIN:VTIMEZONE
TZID:Europe/London
BEGIN:DAYLIGHT
TZOFFSETFROM:+0000
TZOFFSETTO:+0100
TZNAME:BST
DTSTART:20220327T010000
END:DAYLIGHT
BEGIN:STANDARD
TZOFFSETFROM:+0100
TZOFFSETTO:+0000
TZNAME:GMT
DTSTART:20221030T010000
END:STANDARD
END:VTIMEZONE
BEGIN:VEVENT
DTSTART;TZID=Europe/London:20220828T210000
DTEND;TZID=Europe/London:20220828T233000
DTSTAMP:20260423T083703
CREATED:20220110T213622Z
LAST-MODIFIED:20220110T213622Z
UID:177-1661720400-1661729400@www.souvenironline.co.uk
SUMMARY:Gig @ Ilkeston Rugby Club (The Stute)
DESCRIPTION:
URL:https://www.souvenironline.co.uk/event/gig-ilkeston-rugby-club-the-stute/
LOCATION:Ilkeston Rugby Club (The Stute)\, Hallam Fields Road\, Ilkeston\, Derbyshire\, DE7 4AZ\, United Kingdom
CATEGORIES:Gigs
END:VEVENT
END:VCALENDAR