BEGIN:VCALENDAR
VERSION:2.0
PRODID:-//Souvenir Online - ECPv4.9.14//NONSGML v1.0//EN
CALSCALE:GREGORIAN
METHOD:PUBLISH
X-WR-CALNAME:Souvenir Online
X-ORIGINAL-URL:https://www.souvenironline.co.uk
X-WR-CALDESC:Events for Souvenir Online
BEGIN:VTIMEZONE
TZID:Europe/London
BEGIN:DAYLIGHT
TZOFFSETFROM:+0000
TZOFFSETTO:+0100
TZNAME:BST
DTSTART:20210328T010000
END:DAYLIGHT
BEGIN:STANDARD
TZOFFSETFROM:+0100
TZOFFSETTO:+0000
TZNAME:GMT
DTSTART:20211031T010000
END:STANDARD
END:VTIMEZONE
BEGIN:VEVENT
DTSTART;TZID=Europe/London:20210918T210000
DTEND;TZID=Europe/London:20210918T233000
DTSTAMP:20260420T125013
CREATED:20210728T162155Z
LAST-MODIFIED:20210728T162155Z
UID:133-1631998800-1632007800@www.souvenironline.co.uk
SUMMARY:Gig @ Chequers Inn
DESCRIPTION:
URL:https://www.souvenironline.co.uk/event/gig-chequers-inn-4/
LOCATION:Chequers Inn\, 17 High Road\, Beeston\, Nottingham\, NG9 4AF\, United Kingdom
CATEGORIES:Gigs
END:VEVENT
END:VCALENDAR