BEGIN:VCALENDAR
VERSION:2.0
PRODID:-//Souvenir Online - ECPv4.9.14//NONSGML v1.0//EN
CALSCALE:GREGORIAN
METHOD:PUBLISH
X-WR-CALNAME:Souvenir Online
X-ORIGINAL-URL:https://www.souvenironline.co.uk
X-WR-CALDESC:Events for Souvenir Online
BEGIN:VTIMEZONE
TZID:Europe/London
BEGIN:DAYLIGHT
TZOFFSETFROM:+0000
TZOFFSETTO:+0100
TZNAME:BST
DTSTART:20200329T010000
END:DAYLIGHT
BEGIN:STANDARD
TZOFFSETFROM:+0100
TZOFFSETTO:+0000
TZNAME:GMT
DTSTART:20201025T010000
END:STANDARD
END:VTIMEZONE
BEGIN:VEVENT
DTSTART;TZID=Europe/London:20201114T210000
DTEND;TZID=Europe/London:20201114T233000
DTSTAMP:20260420T125240
CREATED:20200213T143438Z
LAST-MODIFIED:20200213T144146Z
UID:117-1605387600-1605396600@www.souvenironline.co.uk
SUMMARY:Gig @ Beeston Victory Club
DESCRIPTION:
URL:https://www.souvenironline.co.uk/event/gig-beeston-victory-club-3/
LOCATION:Beeston Victory Club\, Station Road\, Beeston\, Nottingham\, NG9 2AW\, United Kingdom
CATEGORIES:Gigs
ATTACH;FMTTYPE=image/jpeg:https://www.souvenironline.co.uk/wp-content/uploads/2020/01/d09bf41544a3365a46c9077ebb5e35c3.jpeg
END:VEVENT
END:VCALENDAR